BEGIN:VCALENDAR
VERSION:2.0
PRODID:-//OmniMagnetCalendar//EN
BEGIN:VEVENT
DTSTAMP:20190625T195740Z
STATUS:CONFIRMED
UID:hchouston.clubs.harvard.edu758
DTSTART:20260218T003000Z
DTEND:20260218T023000Z
LOCATION:Cafe Ginger (RO Shopping Ctr), 1574 W Gray, Houston, TX, 77019, usa,
SUMMARY:LUNAR NEW YEAR - This event is SOLD OUT
DESCRIPTION:YEAR OF THE HORSE   - A Space Limited Event LOCATION:  Cafe Ginger (River Oaks Shopping Ctr)
BEGIN:VALARM
TRIGGER:-PT15M
ACTION:DISPLAY
END:VALARM
TRANSP:OPAQUE
END:VEVENT
END:VCALENDAR
