BEGIN:VCALENDAR
VERSION:2.0
PRODID:-//OmniMagnetCalendar//EN
BEGIN:VEVENT
DTSTAMP:20190625T195740Z
STATUS:CONFIRMED
UID:hchouston.clubs.harvard.edu753
DTSTART:20251205T011500Z
DTEND:20251205T023000Z
LOCATION:Private Alumni Residence ,  , Houston, TX, 77041,
SUMMARY:Harvard Alumni Book Club meets again on DECEMBER 4
DESCRIPTION:NOTE: There is no Book Club meeting in November - We will see everyone in December. December Book Selection: The Safekeep by Yael Van Der Wouden
BEGIN:VALARM
TRIGGER:-PT15M
ACTION:DISPLAY
END:VALARM
TRANSP:OPAQUE
END:VEVENT
END:VCALENDAR
