BEGIN:VCALENDAR
VERSION:2.0
PRODID:-//OmniMagnetCalendar//EN
BEGIN:VEVENT
DTSTAMP:20190625T195740Z
STATUS:CONFIRMED
UID:hchouston.clubs.harvard.edu745
DTSTART:20251219T000000Z
DTEND:20251219T020000Z
LOCATION:The Junior League of Houston, 1811 Briar Oaks Lane, Houston, TX, 77027,
SUMMARY:HAPPY HOLIDAYS - - Celebrate with Your Harvard University Club Friends!
DESCRIPTION:LOCATION: The Junior League of Houston Registration Closes at Noon on Dec 15
BEGIN:VALARM
TRIGGER:-PT15M
ACTION:DISPLAY
END:VALARM
TRANSP:OPAQUE
END:VEVENT
END:VCALENDAR
